BEGIN:VCALENDAR
VERSION:2.0
PRODID:-//hacksw/handcal//NONSGML v1.0//EN
BEGIN:VEVENT
DTSTART:20180915T120000Z
DTEND:20180915T140000Z
SUMMARY:Les Méloriens font la grève
LOCATION : Château Richeux\, 35350 Saint-Méloir-des-Ondes
DESCRIPTION : Plus d'infos sur https://st-malo.net/saint-meloir-des-ondes/les-meloriens-font-la-greve-2018-401
END:VEVENT
END:VCALENDAR