BEGIN:VCALENDAR
VERSION:2.0
PRODID:-//hacksw/handcal//NONSGML v1.0//EN
BEGIN:VEVENT
DTSTART:20211031T140000Z
DTEND:20211031T150000Z
SUMMARY:Maloween
LOCATION : 32 Rue d'Émeraude\, 35350 Saint-Méloir-des-Ondes
DESCRIPTION : Plus d'infos sur https://st-malo.net/saint-meloir-des-ondes/maloween-2021-1254
END:VEVENT
END:VCALENDAR