BEGIN:VCALENDAR
VERSION:2.0
PRODID:-//hacksw/handcal//NONSGML v1.0//EN
BEGIN:VEVENT
DTSTART:20210905T074500Z
DTEND:20210905T100000Z
SUMMARY:La Route du Fort Crédit Mutuel de Bretagne
LOCATION : -\, 35430 Saint-Père
DESCRIPTION : Plus d'infos sur https://st-malo.net/saint-pere/course-pied-la-route-du-fort-credit-mutuel-de-bretagne-2021-1113
END:VEVENT
END:VCALENDAR